BEGIN:VCALENDAR
VERSION:2.0
PRODID:-//Verein Bordesholmer Sportkegler - ECPv6.15.18//NONSGML v1.0//EN
CALSCALE:GREGORIAN
METHOD:PUBLISH
X-ORIGINAL-URL:https://www.vbsk.de
X-WR-CALDESC:Veranstaltungen für Verein Bordesholmer Sportkegler
REFRESH-INTERVAL;VALUE=DURATION:PT1H
X-Robots-Tag:noindex
X-PUBLISHED-TTL:PT1H
BEGIN:VTIMEZONE
TZID:Europe/Berlin
BEGIN:DAYLIGHT
TZOFFSETFROM:+0100
TZOFFSETTO:+0200
TZNAME:CEST
DTSTART:20220327T010000
END:DAYLIGHT
BEGIN:STANDARD
TZOFFSETFROM:+0200
TZOFFSETTO:+0100
TZNAME:CET
DTSTART:20221030T010000
END:STANDARD
BEGIN:DAYLIGHT
TZOFFSETFROM:+0100
TZOFFSETTO:+0200
TZNAME:CEST
DTSTART:20230326T010000
END:DAYLIGHT
BEGIN:STANDARD
TZOFFSETFROM:+0200
TZOFFSETTO:+0100
TZNAME:CET
DTSTART:20231029T010000
END:STANDARD
BEGIN:DAYLIGHT
TZOFFSETFROM:+0100
TZOFFSETTO:+0200
TZNAME:CEST
DTSTART:20240331T010000
END:DAYLIGHT
BEGIN:STANDARD
TZOFFSETFROM:+0200
TZOFFSETTO:+0100
TZNAME:CET
DTSTART:20241027T010000
END:STANDARD
END:VTIMEZONE
BEGIN:VEVENT
DTSTART;TZID=Europe/Berlin:20231030T180000
DTEND;TZID=Europe/Berlin:20231030T220000
DTSTAMP:20260420T190730
CREATED:20230927T155507Z
LAST-MODIFIED:20231010T083933Z
UID:590-1698688800-1698703200@www.vbsk.de
SUMMARY:Halloween Familienkegelabend
DESCRIPTION:Jetzt wirds schaurig!\nGemeinsam mit unserer Kegeljugend laden wir euch zu unserem ersten Halloween Familienkegelabend ein. Euch erwartet ein buntes Programm mit Kegelspielen\, einem tollen Snackbuffet und Musik. Im schaurigen Gewand einer Halloween Party seid ihr natürlich herzlichst dazu eingeladen euch zu verkleiden (Auch ohne Verkleidung seid ihr natürlich willkommen). Im Eintrittspreis von 7.50€ sind Softgetränke und das Snackbuffet inklusive. Alkoholische Getränke können gesondert zu fairen Preisen erworben werden. Alle Einnahmen aus der Veranstlatung kommen unserer Jugendkasse zu Gute.\nMeldet euch bis zum 25.10.2023 bei unserem 1. Jugendwart Tim Rocholl (tim@vbsk.de) an\, falls ihr am Halloween Familienkegelabend teilnehmen wollt. \nFragen und Antworten:\nFür wen eignet sich der Halloween-Familienkegelabend?\nFür jede:n wird etwas geboten – egal\, ob Klein oder Groß. \nIch würde gerne alleine am Familienkegelabend teilnehmen?\nKlar :D. Wir freuen uns über alle Teilnehmer:innen und keine Sorge\, durch unsere Kegelspiele und die tolle Gemeinschaft während eines Familienkegelabends wird sich niemand ausgeschlossen fühlen. \n22 Uhr ist mir zu spät!\nKein Problem! Der Abend ist für alle Teilnehmer:innen offen. Man kann also gehen\, wann man möchte. \nIch war noch nie auf einer Kegelbahn – Ist das ein Problem?\nAuf gar keinen Fall :D. Ein Familienkegelabend ist vor allem für Kegel – Neulinge eine großartige Chance in den Kegelsport reinzuschnuppern. \nMuss ich Vereinsmitglied sein um am Halloween Familienkegeln teilzunehmen?\nNein\, wir freuen uns über alle Teilnehmer:innen \nMuss ich mich verkleiden?\nDas kann jede:r für sich selbst entscheiden. Egal\, ob mit oder ohne Verkleidung. Du bist bei uns immer willkommen.
URL:https://www.vbsk.de/event/halloween-familienkegelabend/
LOCATION:Kegelhalle am Möhlenkamp\, Möhlenkamp 26a\, Bordesholm\, 24582
CATEGORIES:Jugend,Verein
ATTACH;FMTTYPE=image/png:https://www.vbsk.de/wp-content/uploads/2023/09/Maskottchen-Zombie.png
ORGANIZER;CN="Tim Rocholl":MAILTO:tim@vbsk.de
END:VEVENT
END:VCALENDAR